BEGIN:VCALENDAR
VERSION:2.0
PRODID:-//ExpressionEngine Easy iCalendar plugin//NONSGML v2.0.1//EN
X-WR-TIMEZONE:America/New_York
X-WR-CALNAME:Upcoming Auctions
BEGIN:VEVENT
UID:131202
DTSTAMP:20241113T200000
DTSTART:20241113T200000
DTEND:20241119T200000
SUMMARY:Absolute Online Auction #2033
LOCATION:1499 State Route 522\, Wheelersburg\, OH 45694 \, US
DESCRIPTION:Vintage Toys\, RK24 Tractor with Loader/Mower Deck and Backho
 e Attachment\, Collectibles\, Household\, Furniture\, Tools\, Coi
 ns and more
URL:https://www.gleimauctions.com/auctions/detail/bw131202
SEQUENCE:1
END:VEVENT
END:VCALENDAR