BEGIN:VCALENDAR
VERSION:2.0
PRODID:-//ExpressionEngine Easy iCalendar plugin//NONSGML v2.0.1//EN
X-WR-TIMEZONE:America/New_York
X-WR-CALNAME:Upcoming Auctions
BEGIN:VEVENT
UID:130859
DTSTAMP:20241106T200000
DTSTART:20241106T200000
DTEND:20241111T200000
SUMMARY:Absolute Online Auction #2030
LOCATION:1499 State Route 522\, Wheelersburg\, OH 45694 \, US
DESCRIPTION:Collectibles\, Primitives\, Household\, Tools\, Furniture\, Coins
 \, Sports Cards and much more 
URL:https://www.gleimauctions.com/auctions/detail/bw130859
SEQUENCE:1
END:VEVENT
END:VCALENDAR