BEGIN:VCALENDAR
VERSION:2.0
PRODID:-//ExpressionEngine Easy iCalendar plugin//NONSGML v2.0.1//EN
X-WR-TIMEZONE:America/New_York
X-WR-CALNAME:Upcoming Auctions
BEGIN:VEVENT
UID:130723
DTSTAMP:20241104T200000
DTSTART:20241104T200000
DTEND:20241110T200000
SUMMARY:Absolute Online Auction #2029
LOCATION:1499 State Route 522\, Wheelersburg\, OH 45694 \, US
DESCRIPTION:Collectibles\, Household\, Tools\, Furniture\, Coins\, Sports Car
 ds and much more 
URL:https://www.gleimauctions.com/auctions/detail/bw130723
SEQUENCE:1
END:VEVENT
END:VCALENDAR