BEGIN:VCALENDAR
VERSION:2.0
PRODID:-//ExpressionEngine Easy iCalendar plugin//NONSGML v2.0.1//EN
X-WR-TIMEZONE:America/New_York
X-WR-CALNAME:Upcoming Auctions
BEGIN:VEVENT
UID:130721
DTSTAMP:20241105T200000
DTSTART:20241105T200000
DTEND:20241112T200000
SUMMARY:Absolute Onsite Online Auction #2031
LOCATION:10248 Chillicothe Pike\, Jackson\, OH 45640\, US
DESCRIPTION:Snap On Tools\, Collectibles\, Tools and more.
URL:https://www.gleimauctions.com/auctions/detail/bw130721
SEQUENCE:1
END:VEVENT
END:VCALENDAR