BEGIN:VCALENDAR
VERSION:2.0
PRODID:-//ExpressionEngine Easy iCalendar plugin//NONSGML v2.0.1//EN
X-WR-TIMEZONE:America/New_York
X-WR-CALNAME:Upcoming Auctions
BEGIN:VEVENT
UID:130211
DTSTAMP:20241027T120000
DTSTART:20241027T120000
DTEND:20241109T120000
SUMMARY:Live Onsite Real Estate Auction with Online Bidding
LOCATION:2204 Gallia Street \, Portsmouth\, OH 45662\, US
DESCRIPTION:Commercial Real Estate Auction
URL:https://www.gleimauctions.com/auctions/detail/bw130211
SEQUENCE:1
END:VEVENT
END:VCALENDAR