BEGIN:VCALENDAR
VERSION:2.0
PRODID:-//ExpressionEngine Easy iCalendar plugin//NONSGML v2.0.1//EN
X-WR-TIMEZONE:America/New_York
X-WR-CALNAME:Upcoming Auctions
BEGIN:VEVENT
UID:130027
DTSTAMP:20241107T170001
DTSTART:20241107T170001
DTEND:20241107T180001
SUMMARY:Live Onsite Real Estate Auction with Online Bidding
LOCATION:1001 Harding Avenue \, Sciotoville\, OH 45662\, US
DESCRIPTION:Multi Property Real Estate Auction 
URL:https://www.gleimauctions.com/auctions/detail/bw130027
SEQUENCE:1
END:VEVENT
END:VCALENDAR