BEGIN:VCALENDAR
VERSION:2.0
PRODID:-//ExpressionEngine Easy iCalendar plugin//NONSGML v2.0.1//EN
X-WR-TIMEZONE:America/New_York
X-WR-CALNAME:Upcoming Auctions
BEGIN:VEVENT
UID:130020
DTSTAMP:20241023T200000
DTSTART:20241023T200000
DTEND:20241029T200000
SUMMARY:Absolute Online Auction #2026
LOCATION:1499 State Route 522\, Wheelersburg\, OH 45694 \, US
DESCRIPTION:Rare Acorn stoves and Ranges Signs\,  WWII Swords\, Collectib
 les\, Furniture\, Household\, Coins and more.
URL:https://www.gleimauctions.com/auctions/detail/bw130020
SEQUENCE:1
END:VEVENT
END:VCALENDAR