BEGIN:VCALENDAR
VERSION:2.0
PRODID:-//ExpressionEngine Easy iCalendar plugin//NONSGML v2.0.1//EN
X-WR-TIMEZONE:America/New_York
X-WR-CALNAME:Upcoming Auctions
BEGIN:VEVENT
UID:129859
DTSTAMP:20241022T200000
DTSTART:20241022T200000
DTEND:20241027T200000
SUMMARY:Absolute Online Auction #2025
LOCATION:1499 State Route 522\, Wheelersburg\, OH 45694 \, US
DESCRIPTION:Advertising Signs\, Collectibles\, Vintage Video Games\, Furnit
 ure\, Sports Collectibles\, Household\, Coins and more.
URL:https://www.gleimauctions.com/auctions/detail/bw129859
SEQUENCE:1
END:VEVENT
END:VCALENDAR