BEGIN:VCALENDAR
VERSION:2.0
PRODID:-//ExpressionEngine Easy iCalendar plugin//NONSGML v2.0.1//EN
X-WR-TIMEZONE:America/New_York
X-WR-CALNAME:Upcoming Auctions
BEGIN:VEVENT
UID:129606
DTSTAMP:20241016T200000
DTSTART:20241016T200000
DTEND:20241022T200000
SUMMARY:Absolute Online Auction #2024
LOCATION:1499 State Route 522\, Wheelersburg\, OH 45694 \, US
DESCRIPTION:Collectibles\, Furniture\, Sports Collectibles\, Household\, a
 nd more
URL:https://www.gleimauctions.com/auctions/detail/bw129606
SEQUENCE:1
END:VEVENT
END:VCALENDAR