BEGIN:VCALENDAR
VERSION:2.0
PRODID:-//ExpressionEngine Easy iCalendar plugin//NONSGML v2.0.1//EN
X-WR-TIMEZONE:America/New_York
X-WR-CALNAME:Upcoming Auctions
BEGIN:VEVENT
UID:129369
DTSTAMP:20241102T120000
DTSTART:20241102T120000
DTEND:20241102T130000
SUMMARY:Live Onsite Real Estate Auction with Online Bidding
LOCATION:7 Judy Lane \, Lucasville\, OH 45648\, US
DESCRIPTION:Real Estate\, 3 Bedroom\, 1 1/2 Bath home situated on .84 Acre
  Corner Lot 
URL:https://www.gleimauctions.com/auctions/detail/bw129369
SEQUENCE:1
END:VEVENT
END:VCALENDAR