BEGIN:VCALENDAR
VERSION:2.0
PRODID:-//ExpressionEngine Easy iCalendar plugin//NONSGML v2.0.1//EN
X-WR-TIMEZONE:America/New_York
X-WR-CALNAME:Upcoming Auctions
BEGIN:VEVENT
UID:126422
DTSTAMP:20240928T120002
DTSTART:20240928T120002
DTEND:20240928T130002
SUMMARY:Live Onsite Real Estate Auction with Online Bidding
LOCATION:105 Indian Drive \, Lucasville\, OH 45648\, US
DESCRIPTION:Real Estate Auction
URL:https://www.gleimauctions.com/auctions/detail/bw126422
SEQUENCE:1
END:VEVENT
END:VCALENDAR