BEGIN:VCALENDAR
VERSION:2.0
PRODID:-//ExpressionEngine Easy iCalendar plugin//NONSGML v2.0.1//EN
X-WR-TIMEZONE:America/New_York
X-WR-CALNAME:Upcoming Auctions
BEGIN:VEVENT
UID:125270
DTSTAMP:20240806T200000
DTSTART:20240806T200000
DTEND:20240811T200000
SUMMARY:Absolute Online Auction #2001
LOCATION:1499 State Route 522\, Wheelersburg\, OH 45694 \, US
DESCRIPTION:Collectibles\, Ammo\, Rifle\, Furniture\, Tools\, Household\, Coin
 s and much more. 
URL:https://www.gleimauctions.com/auctions/detail/bw125270
SEQUENCE:1
END:VEVENT
END:VCALENDAR