BEGIN:VCALENDAR
VERSION:2.0
PRODID:-//ExpressionEngine Easy iCalendar plugin//NONSGML v2.0.1//EN
X-WR-TIMEZONE:America/New_York
X-WR-CALNAME:Upcoming Auctions
BEGIN:VEVENT
UID:124637
DTSTAMP:20240725T200000
DTSTART:20240725T200000
DTEND:20240730T200000
SUMMARY:Absolute Online Auction #1996
LOCATION:1499 State Route 522\, Wheelersburg\, OH 45694 \, US
DESCRIPTION:John Deere Riding Mower\, Collectibles\, 1922 Ford Touring Car
 \, Furniture\, Coins\, Household\, Tools and much more
URL:https://www.gleimauctions.com/auctions/detail/bw124637
SEQUENCE:1
END:VEVENT
END:VCALENDAR