BEGIN:VCALENDAR
VERSION:2.0
PRODID:-//ExpressionEngine Easy iCalendar plugin//NONSGML v2.0.1//EN
X-WR-TIMEZONE:America/New_York
X-WR-CALNAME:Upcoming Auctions
BEGIN:VEVENT
UID:124500
DTSTAMP:20240723T200000
DTSTART:20240723T200000
DTEND:20240728T200000
SUMMARY:Absolute Online Auction #1995
LOCATION:1499 State Route 522\, Wheelersburg\, OH 45694 \, US
DESCRIPTION:Vehicle\, Collectibles\, Tools\, Household\, Coins\, Furniture\, V
 intage Toys and much more
URL:https://www.gleimauctions.com/auctions/detail/bw124500
SEQUENCE:1
END:VEVENT
END:VCALENDAR