BEGIN:VCALENDAR
VERSION:2.0
PRODID:-//ExpressionEngine Easy iCalendar plugin//NONSGML v2.0.1//EN
X-WR-TIMEZONE:America/New_York
X-WR-CALNAME:Upcoming Auctions
BEGIN:VEVENT
UID:123850
DTSTAMP:20240710T200000
DTSTART:20240710T200000
DTEND:20240716T200000
SUMMARY:Absolute Online Auction #1992
LOCATION:1499 State Route 522\, Wheelersburg\, OH 45694 \, US
DESCRIPTION:Collectibles\, Longaberger Baskets\, Sterling Silver Flatware\,
  Furniture\, Household\, Coins\, Gold/Sterling Silver Jewelry a
 nd much more.
URL:https://www.gleimauctions.com/auctions/detail/bw123850
SEQUENCE:1
END:VEVENT
END:VCALENDAR