BEGIN:VCALENDAR
VERSION:2.0
PRODID:-//ExpressionEngine Easy iCalendar plugin//NONSGML v2.0.1//EN
X-WR-TIMEZONE:America/New_York
X-WR-CALNAME:Upcoming Auctions
BEGIN:VEVENT
UID:123459
DTSTAMP:20240702T200000
DTSTART:20240702T200000
DTEND:20240707T200000
SUMMARY:Absolute Online Auction #1989
LOCATION:1499 State Route 522\, Wheelersburg\, OH 45694 \, US
DESCRIPTION:Collectibles\, Ammo\, Furniture\, Gold and Platinum Bars\, Sport
 s Cards\, Guns\, Furniture\, Coins\, Household and much more.
URL:https://www.gleimauctions.com/auctions/detail/bw123459
SEQUENCE:1
END:VEVENT
END:VCALENDAR