BEGIN:VCALENDAR
VERSION:2.0
PRODID:-//ExpressionEngine Easy iCalendar plugin//NONSGML v2.0.1//EN
X-WR-TIMEZONE:America/New_York
X-WR-CALNAME:Upcoming Auctions
BEGIN:VEVENT
UID:122967
DTSTAMP:20240625T200000
DTSTART:20240625T200000
DTEND:20240630T200000
SUMMARY:Absolute Online Auction #1987
LOCATION:1499 State Route 522\, Wheelersburg\, OH 45694 \, US
DESCRIPTION:Collectibles\, Furniture\, Household\, Coins\, Sports Cards\, Com
 ic Books\, Tools and much more.
URL:https://www.gleimauctions.com/auctions/detail/bw122967
SEQUENCE:1
END:VEVENT
END:VCALENDAR