BEGIN:VCALENDAR
VERSION:2.0
PRODID:-//ExpressionEngine Easy iCalendar plugin//NONSGML v2.0.1//EN
X-WR-TIMEZONE:America/New_York
X-WR-CALNAME:Upcoming Auctions
BEGIN:VEVENT
UID:122553
DTSTAMP:20240619T200000
DTSTART:20240619T200000
DTEND:20240623T200000
SUMMARY:Absolute Online Auction #1985
LOCATION:1499 State Route 522\, Wheelersburg\, OH 45694 \, US
DESCRIPTION:Collectibles\, Car Trailer\, Tools\, Furniture\, Household\, Coin
 s and much more.
URL:https://www.gleimauctions.com/auctions/detail/bw122553
SEQUENCE:1
END:VEVENT
END:VCALENDAR