BEGIN:VCALENDAR
VERSION:2.0
PRODID:-//ExpressionEngine Easy iCalendar plugin//NONSGML v2.0.1//EN
X-WR-TIMEZONE:America/New_York
X-WR-CALNAME:Upcoming Auctions
BEGIN:VEVENT
UID:121923
DTSTAMP:20240605T200000
DTSTART:20240605T200000
DTEND:20240611T200000
SUMMARY:Absolute Online Auction #1981
LOCATION:1499 State Route 522\, Wheelersburg\, OH 45694 \, US
DESCRIPTION:Power King 1618 Lawn Mower\, Collectibles\, Troy Bilt Lawn Mow
 er\, Glassware\, Ammo\, Furniture\, Household\, Tools\, Hardware\, 
 Coins and more.
URL:https://www.gleimauctions.com/auctions/detail/bw121923
SEQUENCE:1
END:VEVENT
END:VCALENDAR