BEGIN:VCALENDAR
VERSION:2.0
PRODID:-//ExpressionEngine Easy iCalendar plugin//NONSGML v2.0.1//EN
X-WR-TIMEZONE:America/New_York
X-WR-CALNAME:Upcoming Auctions
BEGIN:VEVENT
UID:121064
DTSTAMP:20240528T200000
DTSTART:20240528T200000
DTEND:20240604T200000
SUMMARY:Absolute Onsite Online Auction #1979
LOCATION:42 Carrol Avenue \, Jackson \, OH 45640\, US
DESCRIPTION:1978 Lincoln Continental Mark V Collectibles\, Tools\, Die Cas
 t Cars\, Vintage License Tags\, John Deere 110 Riding Mower\, A
 dvertising\, Glassware\, Household and more. From The Late Jac
 k and Fern Evans\, Being Offered by Donna Lewis Trustee  
URL:https://www.gleimauctions.com/auctions/detail/bw121064
SEQUENCE:1
END:VEVENT
END:VCALENDAR