BEGIN:VCALENDAR
VERSION:2.0
PRODID:-//ExpressionEngine Easy iCalendar plugin//NONSGML v2.0.1//EN
X-WR-TIMEZONE:America/New_York
X-WR-CALNAME:Upcoming Auctions
BEGIN:VEVENT
UID:118799
DTSTAMP:20240410T200000
DTSTART:20240410T200000
DTEND:20240416T200000
SUMMARY:Absolute Online Auction #1964
LOCATION:1499 State Route 522\, Wheelersburg\, OH 45694\, US
DESCRIPTION:Collectibles\, Pistol\, Household\, Coins\, Tools\, Seasonal Deco
 rations\, Furniture and much more.
URL:https://www.gleimauctions.com/auctions/detail/bw118799
SEQUENCE:1
END:VEVENT
END:VCALENDAR