BEGIN:VCALENDAR
VERSION:2.0
PRODID:-//ExpressionEngine Easy iCalendar plugin//NONSGML v2.0.1//EN
X-WR-TIMEZONE:America/New_York
X-WR-CALNAME:Upcoming Auctions
BEGIN:VEVENT
UID:118725
DTSTAMP:20240425T180002
DTSTART:20240425T180002
DTEND:20240425T190002
SUMMARY:Live Onsite Auction with Online Bidding
LOCATION:513 South 4th Street\, Ironton\, OH 45638\, US
DESCRIPTION:Real Estate offering 3 Bedrooms and 1 1/2 Bath and 2019 Toyo
 ta 4 Runner
URL:https://www.gleimauctions.com/auctions/detail/bw118725
SEQUENCE:1
END:VEVENT
END:VCALENDAR