BEGIN:VCALENDAR
VERSION:2.0
PRODID:-//ExpressionEngine Easy iCalendar plugin//NONSGML v2.0.1//EN
X-WR-TIMEZONE:America/New_York
X-WR-CALNAME:Upcoming Auctions
BEGIN:VEVENT
UID:118316
DTSTAMP:20240402T200000
DTSTART:20240402T200000
DTEND:20240407T200000
SUMMARY:Absolute Online Auction #1961
LOCATION:1499 State Route 522\, Wheelersburg\, OH 45694\, US
DESCRIPTION:Collectibles\, Furniture\, Coins\, Electronics\, Household\, Tool
 s and much more.
URL:https://www.gleimauctions.com/auctions/detail/bw118316
SEQUENCE:1
END:VEVENT
END:VCALENDAR