BEGIN:VCALENDAR
VERSION:2.0
PRODID:-//ExpressionEngine Easy iCalendar plugin//NONSGML v2.0.1//EN
X-WR-TIMEZONE:America/New_York
X-WR-CALNAME:Upcoming Auctions
BEGIN:VEVENT
UID:117955
DTSTAMP:20240326T200000
DTSTART:20240326T200000
DTEND:20240331T200000
SUMMARY:Absolute Online Auction #1958
LOCATION:1499 State Route 522\, Wheelersburg\, OH 45694\, US
DESCRIPTION:Collectibles\, Household\, Advertising\, Coins\, Sports Cards\, T
 ools and much more.
URL:https://www.gleimauctions.com/auctions/detail/bw117955
SEQUENCE:1
END:VEVENT
END:VCALENDAR