BEGIN:VCALENDAR
VERSION:2.0
PRODID:-//ExpressionEngine Easy iCalendar plugin//NONSGML v2.0.1//EN
X-WR-TIMEZONE:America/New_York
X-WR-CALNAME:Upcoming Auctions
BEGIN:VEVENT
UID:117573
DTSTAMP:20240319T200000
DTSTART:20240319T200000
DTEND:20240324T200000
SUMMARY:Absolute Online Auction #1955
LOCATION:1499 State Route 522\, Wheelersburg\, OH 45694\, US
DESCRIPTION:Collectibles\, Longaberger Baskets\, Tools\, Household\, Coins\, 
 Sports Cards and more.
URL:https://www.gleimauctions.com/auctions/detail/bw117573
SEQUENCE:1
END:VEVENT
END:VCALENDAR