BEGIN:VCALENDAR
VERSION:2.0
PRODID:-//ExpressionEngine Easy iCalendar plugin//NONSGML v2.0.1//EN
X-WR-TIMEZONE:America/New_York
X-WR-CALNAME:Upcoming Auctions
BEGIN:VEVENT
UID:117237
DTSTAMP:20240312T200000
DTSTART:20240312T200000
DTEND:20240319T200000
SUMMARY:Absolute Online Auction #1954
LOCATION:1499 State Route 522\, Wheelersburg\, OH 45694\, US
DESCRIPTION:Harley Davidson Motorcycle\, American Gold Eagle\, Collectible
 s\, Furniture\, Household\, Tools\, Coins\, Sterling Silver Jewel
 ry and much more.
URL:https://www.gleimauctions.com/auctions/detail/bw117237
SEQUENCE:1
END:VEVENT
END:VCALENDAR