BEGIN:VCALENDAR
VERSION:2.0
PRODID:-//ExpressionEngine Easy iCalendar plugin//NONSGML v2.0.1//EN
X-WR-TIMEZONE:America/New_York
X-WR-CALNAME:Upcoming Auctions
BEGIN:VEVENT
UID:117170
DTSTAMP:20240312T200000
DTSTART:20240312T200000
DTEND:20240317T200000
SUMMARY:Absolute Online Auction #1953
LOCATION:1499 State Route 522\, Wheelersburg\, OH 45694\, US
DESCRIPTION:Collectibles\, Coins\, Furniture\, Household\, Tools\, Sports Car
 ds and much more.
URL:https://www.gleimauctions.com/auctions/detail/bw117170
SEQUENCE:1
END:VEVENT
END:VCALENDAR