BEGIN:VCALENDAR
VERSION:2.0
PRODID:-//ExpressionEngine Easy iCalendar plugin//NONSGML v2.0.1//EN
X-WR-TIMEZONE:America/New_York
X-WR-CALNAME:Upcoming Auctions
BEGIN:VEVENT
UID:117103
DTSTAMP:20240411T180002
DTSTART:20240411T180002
DTEND:20240411T190002
SUMMARY:Live Onsite Real Estate Auction with Online Bidding
LOCATION:64 TWP Rd. 181\, Ironton\, OH 45638\, US
DESCRIPTION:Ranch 1 Story home offering 3 Bedrooms and 1 Bath
URL:https://www.gleimauctions.com/auctions/detail/bw117103
SEQUENCE:1
END:VEVENT
END:VCALENDAR