BEGIN:VCALENDAR
VERSION:2.0
PRODID:-//ExpressionEngine Easy iCalendar plugin//NONSGML v2.0.1//EN
X-WR-TIMEZONE:America/New_York
X-WR-CALNAME:Upcoming Auctions
BEGIN:VEVENT
UID:116813
DTSTAMP:20240306T200000
DTSTART:20240306T200000
DTEND:20240312T200000
SUMMARY:Absolute Online Auction #1952
LOCATION:1499 State Route 522\, Wheelersburg\, OH 45694\, US
DESCRIPTION:1988 and 1999 Mercedes Benz Automobiles\, Collectibles\, Ammo\,
  Sports Cards\, Household\, Coins and more.
URL:https://www.gleimauctions.com/auctions/detail/bw116813
SEQUENCE:1
END:VEVENT
END:VCALENDAR