BEGIN:VCALENDAR
VERSION:2.0
PRODID:-//ExpressionEngine Easy iCalendar plugin//NONSGML v2.0.1//EN
X-WR-TIMEZONE:America/New_York
X-WR-CALNAME:Upcoming Auctions
BEGIN:VEVENT
UID:116473
DTSTAMP:20240328T170000
DTSTART:20240328T170000
DTEND:20240328T180000
SUMMARY:Live Onsite Real Estate Auction with Online Bidding
LOCATION:65 Jackson St.\, South Webster\, OH 45682\, US
DESCRIPTION:Real Estate Auction
URL:https://www.gleimauctions.com/auctions/detail/bw116473
SEQUENCE:1
END:VEVENT
END:VCALENDAR