BEGIN:VCALENDAR
VERSION:2.0
PRODID:-//ExpressionEngine Easy iCalendar plugin//NONSGML v2.0.1//EN
X-WR-TIMEZONE:America/New_York
X-WR-CALNAME:Upcoming Auctions
BEGIN:VEVENT
UID:115798
DTSTAMP:20240315T200000
DTSTART:20240315T200000
DTEND:20240325T200000
SUMMARY:Absolute Online Auction #1956
LOCATION:1499 State Route 522\, Wheelersburg\, OH 45694\, US
DESCRIPTION:Online Gun Consignment Auction Preview Day Friday March 22nd
  from 3-5:30p.m
URL:https://www.gleimauctions.com/auctions/detail/bw115798
SEQUENCE:1
END:VEVENT
END:VCALENDAR