BEGIN:VCALENDAR
VERSION:2.0
PRODID:-//ExpressionEngine Easy iCalendar plugin//NONSGML v2.0.1//EN
X-WR-TIMEZONE:America/New_York
X-WR-CALNAME:Upcoming Auctions
BEGIN:VEVENT
UID:115633
DTSTAMP:20240212T200000
DTSTART:20240212T200000
DTEND:20240220T200000
SUMMARY:Absolute Online Auction #1946
LOCATION:1499 State Route 522\, Wheelersburg\, OH 45694\, US
DESCRIPTION:5' x 10 Utility Trailer\, Collectibles\, Automobiles\, Guns\, Am
 mo\, Tools\, Household and much more.
URL:https://www.gleimauctions.com/auctions/detail/bw115633
SEQUENCE:1
END:VEVENT
END:VCALENDAR