BEGIN:VCALENDAR
VERSION:2.0
PRODID:-//ExpressionEngine Easy iCalendar plugin//NONSGML v2.0.1//EN
X-WR-TIMEZONE:America/New_York
X-WR-CALNAME:Upcoming Auctions
BEGIN:VEVENT
UID:115447
DTSTAMP:20240323T100001
DTSTART:20240323T100001
DTEND:20240323T110001
SUMMARY:Live Onsite Auction with Online Bidding (New items Added 3/2
 1)
LOCATION:56 State Route 728\, Lucasville\, OH 45648\, US
DESCRIPTION:Case 650 Dozer\, Cargo Trailer\, Vehicles\, Black Piping\, Fork 
 Lifts\, Wood Chipper and more.
URL:https://www.gleimauctions.com/auctions/detail/bw115447
SEQUENCE:1
END:VEVENT
END:VCALENDAR