BEGIN:VCALENDAR
VERSION:2.0
PRODID:-//ExpressionEngine Easy iCalendar plugin//NONSGML v2.0.1//EN
X-WR-TIMEZONE:America/New_York
X-WR-CALNAME:Upcoming Auctions
BEGIN:VEVENT
UID:114785
DTSTAMP:20240130T200000
DTSTART:20240130T200000
DTEND:20240206T200000
SUMMARY:Absolute Online Auction #1941
LOCATION:1499 State Route 522\, Wheelersburg\, OH 45694\, US
DESCRIPTION:Life Long Collection of Collectibles\, Fishing Lures\, Wood Wo
 rking Tools\, Reloading Equipment\, Tools\, Ammo and more. Sale
  #1
URL:https://www.gleimauctions.com/auctions/detail/bw114785
SEQUENCE:1
END:VEVENT
END:VCALENDAR