BEGIN:VCALENDAR
VERSION:2.0
PRODID:-//ExpressionEngine Easy iCalendar plugin//NONSGML v2.0.1//EN
X-WR-TIMEZONE:America/New_York
X-WR-CALNAME:Upcoming Auctions
BEGIN:VEVENT
UID:114472
DTSTAMP:20240125T200000
DTSTART:20240125T200000
DTEND:20240130T200000
SUMMARY:Absolute Online Auction #1939
LOCATION:1499 State Route 522\, Wheelersburg\, OH 45694\, US
DESCRIPTION:Collectibles\, Household\, Tools\, Advertising\, Tools\, Coins an
 d much more.
URL:https://www.gleimauctions.com/auctions/detail/bw114472
SEQUENCE:1
END:VEVENT
END:VCALENDAR