BEGIN:VCALENDAR
VERSION:2.0
PRODID:-//ExpressionEngine Easy iCalendar plugin//NONSGML v2.0.1//EN
X-WR-TIMEZONE:America/New_York
X-WR-CALNAME:Upcoming Auctions
BEGIN:VEVENT
UID:114402
DTSTAMP:20240124T200000
DTSTART:20240124T200000
DTEND:20240128T200000
SUMMARY:Absolute Online Auction #1937
LOCATION:1499 State Route 522\, Wheelersburg\, OH 45694\, US
DESCRIPTION:Collectibles\, Household\, Tools\, Furniture\, Coins\, Food and m
 ore
URL:https://www.gleimauctions.com/auctions/detail/bw114402
SEQUENCE:1
END:VEVENT
END:VCALENDAR