BEGIN:VCALENDAR
VERSION:2.0
PRODID:-//ExpressionEngine Easy iCalendar plugin//NONSGML v2.0.1//EN
X-WR-TIMEZONE:America/New_York
X-WR-CALNAME:Upcoming Auctions
BEGIN:VEVENT
UID:114118
DTSTAMP:20240117T200000
DTSTART:20240117T200000
DTEND:20240123T200000
SUMMARY:Absolute Online Auction #1936
LOCATION:1499 State Route 522\, Wheelersburg\, OH 45694\, US
DESCRIPTION:Collectibles\, Nice LP Record Collection\, Furniture\, Sterling
  Jewelry\, Household\, Tools and much more
URL:https://www.gleimauctions.com/auctions/detail/bw114118
SEQUENCE:1
END:VEVENT
END:VCALENDAR