BEGIN:VCALENDAR
VERSION:2.0
PRODID:-//ExpressionEngine Easy iCalendar plugin//NONSGML v2.0.1//EN
X-WR-TIMEZONE:America/New_York
X-WR-CALNAME:Upcoming Auctions
BEGIN:VEVENT
UID:113740
DTSTAMP:20240109T200000
DTSTART:20240109T200000
DTEND:20240114T200000
SUMMARY:Absolute Online Auction #1933
LOCATION:1499 State Route 522\, Wheelersburg\, OH 45694\, US
DESCRIPTION:Collectibles\, Guns. Furniture\, Household\, Sports Cards\, Coin
 s\, Tools and much more.
URL:https://www.gleimauctions.com/auctions/detail/bw113740
SEQUENCE:1
END:VEVENT
END:VCALENDAR